BEGIN:VCALENDAR
VERSION:2.0
PRODID:-//Wash Wombles - ECPv6.15.13//NONSGML v1.0//EN
CALSCALE:GREGORIAN
METHOD:PUBLISH
X-WR-CALNAME:Wash Wombles
X-ORIGINAL-URL:https://washwombles.co.uk
X-WR-CALDESC:Events for Wash Wombles
REFRESH-INTERVAL;VALUE=DURATION:PT1H
X-Robots-Tag:noindex
X-PUBLISHED-TTL:PT1H
BEGIN:VTIMEZONE
TZID:UTC
BEGIN:STANDARD
TZOFFSETFROM:+0000
TZOFFSETTO:+0000
TZNAME:UTC
DTSTART:20230101T000000
END:STANDARD
END:VTIMEZONE
BEGIN:VEVENT
DTSTART;TZID=UTC:20241005T110000
DTEND;TZID=UTC:20241005T130000
DTSTAMP:20260426T042614
CREATED:20240928T150825Z
LAST-MODIFIED:20241003T124249Z
UID:443-1728126000-1728133200@washwombles.co.uk
SUMMARY:Stepney City Farm
DESCRIPTION:Meet by the big barn in the middle of the farm. Drop in and out at any time.
URL:https://washwombles.co.uk/event/stepney-city-farm/
LOCATION:Stepney City Farm\, Stepney City Farm\, Stepney Way\, London\, E1 3DG\, United Kingdom
CATEGORIES:Community litter picking event,Stepney City Farm
END:VEVENT
END:VCALENDAR