BEGIN:VCALENDAR
VERSION:2.0
PRODID:-//Wash Wombles - ECPv6.15.13//NONSGML v1.0//EN
CALSCALE:GREGORIAN
METHOD:PUBLISH
X-WR-CALNAME:Wash Wombles
X-ORIGINAL-URL:https://washwombles.co.uk
X-WR-CALDESC:Events for Wash Wombles
REFRESH-INTERVAL;VALUE=DURATION:PT1H
X-Robots-Tag:noindex
X-PUBLISHED-TTL:PT1H
BEGIN:VTIMEZONE
TZID:Europe/London
BEGIN:DAYLIGHT
TZOFFSETFROM:+0000
TZOFFSETTO:+0100
TZNAME:BST
DTSTART:20230326T010000
END:DAYLIGHT
BEGIN:STANDARD
TZOFFSETFROM:+0100
TZOFFSETTO:+0000
TZNAME:GMT
DTSTART:20231029T010000
END:STANDARD
BEGIN:DAYLIGHT
TZOFFSETFROM:+0000
TZOFFSETTO:+0100
TZNAME:BST
DTSTART:20240331T010000
END:DAYLIGHT
BEGIN:STANDARD
TZOFFSETFROM:+0100
TZOFFSETTO:+0000
TZNAME:GMT
DTSTART:20241027T010000
END:STANDARD
BEGIN:DAYLIGHT
TZOFFSETFROM:+0000
TZOFFSETTO:+0100
TZNAME:BST
DTSTART:20250330T010000
END:DAYLIGHT
BEGIN:STANDARD
TZOFFSETFROM:+0100
TZOFFSETTO:+0000
TZNAME:GMT
DTSTART:20251026T010000
END:STANDARD
BEGIN:DAYLIGHT
TZOFFSETFROM:+0000
TZOFFSETTO:+0100
TZNAME:BST
DTSTART:20260329T010000
END:DAYLIGHT
BEGIN:STANDARD
TZOFFSETFROM:+0100
TZOFFSETTO:+0000
TZNAME:GMT
DTSTART:20261025T010000
END:STANDARD
END:VTIMEZONE
BEGIN:VTIMEZONE
TZID:UTC
BEGIN:STANDARD
TZOFFSETFROM:+0000
TZOFFSETTO:+0000
TZNAME:UTC
DTSTART:20230101T000000
END:STANDARD
END:VTIMEZONE
BEGIN:VEVENT
DTSTART;TZID=Europe/London:20250705T110000
DTEND;TZID=Europe/London:20250705T130000
DTSTAMP:20260426T042634
CREATED:20250501T125359Z
LAST-MODIFIED:20250501T125400Z
UID:818-1751713200-1751720400@washwombles.co.uk
SUMMARY:Stepney - July
DESCRIPTION:
URL:https://washwombles.co.uk/event/stepney-july/
LOCATION:Stepney City Farm\, Stepney City Farm\, Stepney Way\, London\, E1 3DG\, United Kingdom
CATEGORIES:Community litter picking event,Stepney City Farm
END:VEVENT
BEGIN:VEVENT
DTSTART;TZID=Europe/London:20250622T110000
DTEND;TZID=Europe/London:20250622T130000
DTSTAMP:20260426T042634
CREATED:20250518T160412Z
LAST-MODIFIED:20250518T160713Z
UID:842-1750590000-1750597200@washwombles.co.uk
SUMMARY:Mile End - June
DESCRIPTION:
URL:https://washwombles.co.uk/event/mile-end-june/
CATEGORIES:Mile End
END:VEVENT
BEGIN:VEVENT
DTSTART;TZID=Europe/London:20250614T110000
DTEND;TZID=Europe/London:20250614T130000
DTSTAMP:20260426T042634
CREATED:20250501T133912Z
LAST-MODIFIED:20250501T133945Z
UID:834-1749898800-1749906000@washwombles.co.uk
SUMMARY:Wapping - June
DESCRIPTION:
URL:https://washwombles.co.uk/event/wapping-june/
CATEGORIES:Community litter picking event,Wapping
END:VEVENT
BEGIN:VEVENT
DTSTART;TZID=Europe/London:20250607T110000
DTEND;TZID=Europe/London:20250607T130000
DTSTAMP:20260426T042634
CREATED:20250501T125158Z
LAST-MODIFIED:20250501T125159Z
UID:816-1749294000-1749301200@washwombles.co.uk
SUMMARY:Stepney - June
DESCRIPTION:Meet by the big barn
URL:https://washwombles.co.uk/event/stepney-june/
LOCATION:Stepney City Farm\, Stepney City Farm\, Stepney Way\, London\, E1 3DG\, United Kingdom
CATEGORIES:Community litter picking event,Stepney City Farm
END:VEVENT
BEGIN:VEVENT
DTSTART;TZID=Europe/London:20250601T110000
DTEND;TZID=Europe/London:20250601T130000
DTSTAMP:20260426T042634
CREATED:20250501T125926Z
LAST-MODIFIED:20250501T130008Z
UID:823-1748775600-1748782800@washwombles.co.uk
SUMMARY:Poplar June
DESCRIPTION:Meet by the Bakehouse in Bartlett Park
URL:https://washwombles.co.uk/event/poplar-june/
LOCATION:Poplar\, 2 Cotall Street\, London\, E14 6TL\, United Kingdom
CATEGORIES:Community litter picking event,Poplar Picks
END:VEVENT
BEGIN:VEVENT
DTSTART;TZID=Europe/London:20250510T110000
DTEND;TZID=Europe/London:20250510T130000
DTSTAMP:20260426T042634
CREATED:20250501T133806Z
LAST-MODIFIED:20250501T133807Z
UID:832-1746874800-1746882000@washwombles.co.uk
SUMMARY:Wapping - May
DESCRIPTION:
URL:https://washwombles.co.uk/event/wapping-may/
LOCATION:Wapping Lane\, Wapping Lane\, London\, E1W 2RW\, United Kingdom
CATEGORIES:Community litter picking event,Wapping
END:VEVENT
BEGIN:VEVENT
DTSTART;TZID=Europe/London:20250505T120000
DTEND;TZID=Europe/London:20250505T160000
DTSTAMP:20260426T042634
CREATED:20250501T133637Z
LAST-MODIFIED:20250501T133638Z
UID:829-1746446400-1746460800@washwombles.co.uk
SUMMARY:Wapping VE Day
DESCRIPTION:We’ll be hanging out meeting neighbours – you are welcome to do some litter picking during the day or to help tidy up afterwards.
URL:https://washwombles.co.uk/event/wapping-ve-day/
LOCATION:Wapping Lane\, Wapping Lane\, London\, E1W 2RW\, United Kingdom
CATEGORIES:Community litter picking event,Wapping
ATTACH;FMTTYPE=image/jpeg:https://washwombles.co.uk/wp-content/uploads/2025/05/WhatsApp-Image-2025-04-30-at-21.34.37.jpeg
END:VEVENT
BEGIN:VEVENT
DTSTART;TZID=Europe/London:20250504T110000
DTEND;TZID=Europe/London:20250504T130000
DTSTAMP:20260426T042634
CREATED:20250501T125752Z
LAST-MODIFIED:20250501T125804Z
UID:820-1746356400-1746363600@washwombles.co.uk
SUMMARY:Poplar Picks May
DESCRIPTION:Meet by the Bakehouse in Bartlett Park
URL:https://washwombles.co.uk/event/poplar-picks/
LOCATION:Poplar\, 2 Cotall Street\, London\, E14 6TL\, United Kingdom
CATEGORIES:Community litter picking event,Poplar Picks
END:VEVENT
BEGIN:VEVENT
DTSTART;TZID=Europe/London:20250503T110000
DTEND;TZID=Europe/London:20250503T130000
DTSTAMP:20260426T042634
CREATED:20250501T125034Z
LAST-MODIFIED:20250501T125631Z
UID:813-1746270000-1746277200@washwombles.co.uk
SUMMARY:Stepney May Day Litter Pick
DESCRIPTION:We’ll be by the goats!
URL:https://washwombles.co.uk/event/stepney-may-day-litter-pick/
LOCATION:Stepney City Farm\, Stepney City Farm\, Stepney Way\, London\, E1 3DG\, United Kingdom
CATEGORIES:Community litter picking event,Stepney City Farm
ATTACH;FMTTYPE=image/jpeg:https://washwombles.co.uk/wp-content/uploads/2025/05/WhatsApp-Image-2025-04-30-at-15.23.55.jpeg
END:VEVENT
BEGIN:VEVENT
DTSTART;TZID=Europe/London:20250316T110000
DTEND;TZID=Europe/London:20250316T130000
DTSTAMP:20260426T042634
CREATED:20250217T113600Z
LAST-MODIFIED:20250217T115926Z
UID:771-1742122800-1742130000@washwombles.co.uk
SUMMARY:Mile End Litter Pick - New Location!
DESCRIPTION:We’re test-driving a new meet up location – outside of Mile End tube station.  \n\n\n\nIn an attempt to reach more local folk we’ll be setting up a table outside of the tube station. You will still be welcome to head into the park which is a few minutes walk from the station. Tower Hamlets Cemetery Park is also a 5 minute walk away where you’re welcome to pick. \n\n\n\nAll gear will be provided – just dress for the weather. Open to all ages. \n\n\n\nCome help us clean our parks and streets! \n\n\n\n-The Mile End Litter Picking Team
URL:https://washwombles.co.uk/event/mile-end-litter-pick-new-location/
END:VEVENT
BEGIN:VEVENT
DTSTART;TZID=Europe/London:20250301T110000
DTEND;TZID=Europe/London:20250301T130000
DTSTAMP:20260426T042634
CREATED:20250226T110817Z
LAST-MODIFIED:20250226T111124Z
UID:787-1740826800-1740834000@washwombles.co.uk
SUMMARY:Stepney - March
DESCRIPTION:Meet us inside Stepney City Farm. Gear\, hot drinks and snacks will be provided.
URL:https://washwombles.co.uk/event/stepney-march/
LOCATION:Stepney City Farm\, Stepney City Farm\, Stepney Way\, London\, E1 3DG\, United Kingdom
CATEGORIES:Stepney City Farm
ATTACH;FMTTYPE=image/jpeg:https://washwombles.co.uk/wp-content/uploads/2025/02/Stepney-Wombles-group-pic.jpg
END:VEVENT
BEGIN:VEVENT
DTSTART;TZID=Europe/London:20250201T110000
DTEND;TZID=Europe/London:20250201T130000
DTSTAMP:20260426T042634
CREATED:20241114T171546Z
LAST-MODIFIED:20241114T171547Z
UID:759-1738407600-1738414800@washwombles.co.uk
SUMMARY:Stepney - February
DESCRIPTION:Meet at the big barn in the centre of the farm.
URL:https://washwombles.co.uk/event/stepney-february/
CATEGORIES:Community litter picking event,Stepney City Farm
ATTACH;FMTTYPE=image/jpeg:https://washwombles.co.uk/wp-content/uploads/2024/10/IMG-20241006-WA0018.jpg
END:VEVENT
BEGIN:VEVENT
DTSTART;TZID=Europe/London:20250104T110000
DTEND;TZID=Europe/London:20250104T130000
DTSTAMP:20260426T042634
CREATED:20241114T171344Z
LAST-MODIFIED:20241114T171345Z
UID:757-1735988400-1735995600@washwombles.co.uk
SUMMARY:Stepney - January 2025 Happy New Year
DESCRIPTION:Meet by the big barn  in the middle of the farm.
URL:https://washwombles.co.uk/event/stepney-january-2025-happy-new-year/
LOCATION:Stepney City Farm\, Stepney City Farm\, Stepney Way\, London\, E1 3DG\, United Kingdom
CATEGORIES:Community litter picking event,Stepney City Farm
ATTACH;FMTTYPE=image/jpeg:https://washwombles.co.uk/wp-content/uploads/2024/10/IMG-20241006-WA0018.jpg
END:VEVENT
BEGIN:VEVENT
DTSTART;TZID=Europe/London:20241207T110000
DTEND;TZID=Europe/London:20241207T130000
DTSTAMP:20260426T042634
CREATED:20241114T171023Z
LAST-MODIFIED:20241114T171108Z
UID:754-1733569200-1733576400@washwombles.co.uk
SUMMARY:Stepney - December
DESCRIPTION:Meet at the big barn in the farm
URL:https://washwombles.co.uk/event/stepney-november-2/
LOCATION:Stepney City Farm\, Stepney City Farm\, Stepney Way\, London\, E1 3DG\, United Kingdom
CATEGORIES:Community litter picking event,Stepney City Farm
ATTACH;FMTTYPE=image/jpeg:https://washwombles.co.uk/wp-content/uploads/2024/10/IMG-20241006-WA0018.jpg
END:VEVENT
BEGIN:VEVENT
DTSTART;TZID=Europe/London:20241123T110000
DTEND;TZID=Europe/London:20241123T130000
DTSTAMP:20260426T042634
CREATED:20241114T170515Z
LAST-MODIFIED:20241116T072823Z
UID:749-1732359600-1732366800@washwombles.co.uk
SUMMARY:Shadwell - November
DESCRIPTION:Meet on the steps of St George-in-the East Church
URL:https://washwombles.co.uk/event/shadwell-november/
CATEGORIES:Community litter picking event,Shadwell
ATTACH;FMTTYPE=image/jpeg:https://washwombles.co.uk/wp-content/uploads/2024/10/PXL_20240928_093340601-scaled.jpg
END:VEVENT
BEGIN:VEVENT
DTSTART;TZID=Europe/London:20241117T110000
DTEND;TZID=Europe/London:20241117T130000
DTSTAMP:20260426T042634
CREATED:20241115T171246Z
LAST-MODIFIED:20241115T171248Z
UID:765-1731841200-1731848400@washwombles.co.uk
SUMMARY:Mile End - November
DESCRIPTION:Meet at the Art Pavilion – Clifton Road
URL:https://washwombles.co.uk/event/mile-end-november/
LOCATION:Mile End\, Mile End Art Pavillion\, Clinton Road\, London\, E3 4QY\, United Kingdom
ATTACH;FMTTYPE=image/jpeg:https://washwombles.co.uk/wp-content/uploads/2024/11/WhatsApp-Image-2024-11-10-at-21.31.29.jpeg
END:VEVENT
BEGIN:VEVENT
DTSTART;TZID=Europe/London:20241109T110000
DTEND;TZID=Europe/London:20241109T130000
DTSTAMP:20260426T042634
CREATED:20241015T090447Z
LAST-MODIFIED:20241015T090804Z
UID:744-1731150000-1731157200@washwombles.co.uk
SUMMARY:Wapping - November
DESCRIPTION:Our monthly litter pick – drop in and out as you like. Hot drinks and biscuits available and a voucher for a free drink at Urban Baristas!
URL:https://washwombles.co.uk/event/wapping-november/
LOCATION:Wapping Lane\, Wapping Lane\, London\, E1W 2RW\, United Kingdom
CATEGORIES:Community litter picking event,Wapping
ATTACH;FMTTYPE=image/jpeg:https://washwombles.co.uk/wp-content/uploads/2024/10/PXL_20241012_120652792-scaled.jpg
END:VEVENT
BEGIN:VEVENT
DTSTART;TZID=Europe/London:20241102T110000
DTEND;TZID=Europe/London:20241102T130000
DTSTAMP:20260426T042634
CREATED:20241007T101736Z
LAST-MODIFIED:20241007T101925Z
UID:722-1730545200-1730552400@washwombles.co.uk
SUMMARY:Stepney - November
DESCRIPTION:Drop-in or out at any time – meet by the big barn. Hot drinks and biscuits for all!
URL:https://washwombles.co.uk/event/stepney-november/
CATEGORIES:Community litter picking event,Stepney City Farm
ATTACH;FMTTYPE=image/jpeg:https://washwombles.co.uk/wp-content/uploads/2024/10/IMG-20241006-WA0017.jpg
END:VEVENT
BEGIN:VEVENT
DTSTART;TZID=Europe/London:20241026T110000
DTEND;TZID=Europe/London:20241026T130000
DTSTAMP:20260426T042634
CREATED:20241003T123522Z
LAST-MODIFIED:20241015T091108Z
UID:626-1729940400-1729947600@washwombles.co.uk
SUMMARY:Shadwell - October
DESCRIPTION:Meet by the front of St-George-in-the-East church. Hot drinks\, biscuits and toilet facilities.
URL:https://washwombles.co.uk/event/shadwell-october/
LOCATION:Shadwell\, Ropewalk Gardens\, London\, United Kingdom
CATEGORIES:Community litter picking event,Shadwell
ATTACH;FMTTYPE=image/jpeg:https://washwombles.co.uk/wp-content/uploads/2024/10/PXL_20240928_093340601-scaled.jpg
END:VEVENT
BEGIN:VEVENT
DTSTART;TZID=Europe/London:20241020T110000
DTEND;TZID=Europe/London:20241020T130000
DTSTAMP:20260426T042634
CREATED:20241003T123011Z
LAST-MODIFIED:20241015T091232Z
UID:622-1729422000-1729429200@washwombles.co.uk
SUMMARY:Mile End - October
DESCRIPTION:Our monthly litter pick in Mile End – meet in the car park of the Art Pavilion in Mile End Park. Meet at 1pm.
URL:https://washwombles.co.uk/event/mile-end-october/
LOCATION:Mile End\, Mile End Art Pavillion\, Clinton Road\, London\, E3 4QY\, United Kingdom
CATEGORIES:Community litter picking event,Mile End
ATTACH;FMTTYPE=image/jpeg:https://washwombles.co.uk/wp-content/uploads/2024/10/WhatsApp-Image-2024-10-15-at-10.10.54.jpeg
END:VEVENT
BEGIN:VEVENT
DTSTART;TZID=UTC:20241012T110000
DTEND;TZID=UTC:20241012T130000
DTSTAMP:20260426T042634
CREATED:20240928T153611Z
LAST-MODIFIED:20241003T125751Z
UID:466-1728730800-1728738000@washwombles.co.uk
SUMMARY:Wapping October
DESCRIPTION:Find us on Wapping Lane opposite Wapping Green. We’re in hi-vis\, you can’t miss us!
URL:https://washwombles.co.uk/event/wapping-october/
LOCATION:Wapping Lane\, Wapping Lane\, London\, E1W 2RW\, United Kingdom
CATEGORIES:Community litter picking event,Wapping
END:VEVENT
BEGIN:VEVENT
DTSTART;TZID=UTC:20241005T110000
DTEND;TZID=UTC:20241005T130000
DTSTAMP:20260426T042634
CREATED:20240928T150825Z
LAST-MODIFIED:20241003T124249Z
UID:443-1728126000-1728133200@washwombles.co.uk
SUMMARY:Stepney City Farm
DESCRIPTION:Meet by the big barn in the middle of the farm. Drop in and out at any time.
URL:https://washwombles.co.uk/event/stepney-city-farm/
LOCATION:Stepney City Farm\, Stepney City Farm\, Stepney Way\, London\, E1 3DG\, United Kingdom
CATEGORIES:Community litter picking event,Stepney City Farm
END:VEVENT
END:VCALENDAR