BEGIN:VCALENDAR
VERSION:2.0
PRODID:-//Wash Wombles - ECPv6.15.13//NONSGML v1.0//EN
CALSCALE:GREGORIAN
METHOD:PUBLISH
X-ORIGINAL-URL:https://washwombles.co.uk
X-WR-CALDESC:Events for Wash Wombles
REFRESH-INTERVAL;VALUE=DURATION:PT1H
X-Robots-Tag:noindex
X-PUBLISHED-TTL:PT1H
BEGIN:VTIMEZONE
TZID:Europe/London
BEGIN:DAYLIGHT
TZOFFSETFROM:+0000
TZOFFSETTO:+0100
TZNAME:BST
DTSTART:20240331T010000
END:DAYLIGHT
BEGIN:STANDARD
TZOFFSETFROM:+0100
TZOFFSETTO:+0000
TZNAME:GMT
DTSTART:20241027T010000
END:STANDARD
BEGIN:DAYLIGHT
TZOFFSETFROM:+0000
TZOFFSETTO:+0100
TZNAME:BST
DTSTART:20250330T010000
END:DAYLIGHT
BEGIN:STANDARD
TZOFFSETFROM:+0100
TZOFFSETTO:+0000
TZNAME:GMT
DTSTART:20251026T010000
END:STANDARD
BEGIN:DAYLIGHT
TZOFFSETFROM:+0000
TZOFFSETTO:+0100
TZNAME:BST
DTSTART:20260329T010000
END:DAYLIGHT
BEGIN:STANDARD
TZOFFSETFROM:+0100
TZOFFSETTO:+0000
TZNAME:GMT
DTSTART:20261025T010000
END:STANDARD
BEGIN:DAYLIGHT
TZOFFSETFROM:+0000
TZOFFSETTO:+0100
TZNAME:BST
DTSTART:20270328T010000
END:DAYLIGHT
BEGIN:STANDARD
TZOFFSETFROM:+0100
TZOFFSETTO:+0000
TZNAME:GMT
DTSTART:20271031T010000
END:STANDARD
END:VTIMEZONE
BEGIN:VEVENT
DTSTART;TZID=Europe/London:20251206T110000
DTEND;TZID=Europe/London:20251206T130000
DTSTAMP:20260425T170759
CREATED:20250915T135301Z
LAST-MODIFIED:20250915T135302Z
UID:923-1765018800-1765026000@washwombles.co.uk
SUMMARY:Stepney December
DESCRIPTION:
URL:https://washwombles.co.uk/event/stepney-december/
LOCATION:Stepney City Farm\, Stepney City Farm\, Stepney Way\, London\, E1 3DG\, United Kingdom
CATEGORIES:Community litter picking event,Stepney City Farm
END:VEVENT
BEGIN:VEVENT
DTSTART;TZID=Europe/London:20251207T110000
DTEND;TZID=Europe/London:20251207T130000
DTSTAMP:20260425T170759
CREATED:20250914T135902Z
LAST-MODIFIED:20250914T135902Z
UID:874-1765105200-1765112400@washwombles.co.uk
SUMMARY:Poplar Picks
DESCRIPTION:Come and meet us at Bartlett park to help clean up our park\, surrounding streets and canal path.
URL:https://washwombles.co.uk/event/poplar-picks-6/
LOCATION:Bartlett Park\, Lindfield Street\, London\, E14 6LH
END:VEVENT
BEGIN:VEVENT
DTSTART;TZID=Europe/London:20251213T110000
DTEND;TZID=Europe/London:20251213T130000
DTSTAMP:20260425T170759
CREATED:20250915T134836Z
LAST-MODIFIED:20250915T134837Z
UID:917-1765623600-1765630800@washwombles.co.uk
SUMMARY:Wapping December
DESCRIPTION:
URL:https://washwombles.co.uk/event/wapping-december/
LOCATION:Wapping Lane\, Wapping Lane\, London\, E1W 2RW\, United Kingdom
CATEGORIES:Community litter picking event,Wapping
END:VEVENT
BEGIN:VEVENT
DTSTART;TZID=Europe/London:20260110T110000
DTEND;TZID=Europe/London:20260110T130000
DTSTAMP:20260425T170759
CREATED:20260105T161819Z
LAST-MODIFIED:20260105T161821Z
UID:937-1768042800-1768050000@washwombles.co.uk
SUMMARY:Wapping - January 2026
DESCRIPTION:Our monthly litter pick in Wapping – we meet on Wapping Lane opposite the Green and the Doctors.
URL:https://washwombles.co.uk/event/wapping-january-2026/
LOCATION:Wapping Lane\, Wapping Lane\, London\, E1W 2RW\, United Kingdom
CATEGORIES:Community litter picking event,Wapping
ATTACH;FMTTYPE=image/jpeg:https://washwombles.co.uk/wp-content/uploads/2024/10/PXL_20241012_112431224-scaled.jpg
END:VEVENT
BEGIN:VEVENT
DTSTART;TZID=Europe/London:20260328T110000
DTEND;TZID=Europe/London:20260328T130000
DTSTAMP:20260425T170759
CREATED:20260321T120022Z
LAST-MODIFIED:20260321T120024Z
UID:943-1774695600-1774702800@washwombles.co.uk
SUMMARY:April Shadwell
DESCRIPTION:Meet on the square on corner of Dunch Street and Watney Street
URL:https://washwombles.co.uk/event/april-shadwell/
LOCATION:Watney Street\, Dunch Street\, London\, E1 2NP\, United Kingdom
CATEGORIES:Shadwell
END:VEVENT
BEGIN:VEVENT
DTSTART;TZID=Europe/London:20260418T110000
DTEND;TZID=Europe/London:20260418T130000
DTSTAMP:20260425T170759
CREATED:20260321T114440Z
LAST-MODIFIED:20260321T114442Z
UID:941-1776510000-1776517200@washwombles.co.uk
SUMMARY:Limehouse April
DESCRIPTION:
URL:https://washwombles.co.uk/event/limehouse-april/
LOCATION:Limehouse\, Butcher Row\, London\, E14 8DS\, United Kingdom
CATEGORIES:Community litter picking event,Limehouse
END:VEVENT
END:VCALENDAR