BEGIN:VCALENDAR
VERSION:2.0
PRODID:-//Wash Wombles - ECPv6.15.13//NONSGML v1.0//EN
CALSCALE:GREGORIAN
METHOD:PUBLISH
X-WR-CALNAME:Wash Wombles
X-ORIGINAL-URL:https://washwombles.co.uk
X-WR-CALDESC:Events for Wash Wombles
REFRESH-INTERVAL;VALUE=DURATION:PT1H
X-Robots-Tag:noindex
X-PUBLISHED-TTL:PT1H
BEGIN:VTIMEZONE
TZID:Europe/London
BEGIN:DAYLIGHT
TZOFFSETFROM:+0000
TZOFFSETTO:+0100
TZNAME:BST
DTSTART:20230326T010000
END:DAYLIGHT
BEGIN:STANDARD
TZOFFSETFROM:+0100
TZOFFSETTO:+0000
TZNAME:GMT
DTSTART:20231029T010000
END:STANDARD
BEGIN:DAYLIGHT
TZOFFSETFROM:+0000
TZOFFSETTO:+0100
TZNAME:BST
DTSTART:20240331T010000
END:DAYLIGHT
BEGIN:STANDARD
TZOFFSETFROM:+0100
TZOFFSETTO:+0000
TZNAME:GMT
DTSTART:20241027T010000
END:STANDARD
BEGIN:DAYLIGHT
TZOFFSETFROM:+0000
TZOFFSETTO:+0100
TZNAME:BST
DTSTART:20250330T010000
END:DAYLIGHT
BEGIN:STANDARD
TZOFFSETFROM:+0100
TZOFFSETTO:+0000
TZNAME:GMT
DTSTART:20251026T010000
END:STANDARD
BEGIN:DAYLIGHT
TZOFFSETFROM:+0000
TZOFFSETTO:+0100
TZNAME:BST
DTSTART:20260329T010000
END:DAYLIGHT
BEGIN:STANDARD
TZOFFSETFROM:+0100
TZOFFSETTO:+0000
TZNAME:GMT
DTSTART:20261025T010000
END:STANDARD
BEGIN:DAYLIGHT
TZOFFSETFROM:+0000
TZOFFSETTO:+0100
TZNAME:BST
DTSTART:20270328T010000
END:DAYLIGHT
BEGIN:STANDARD
TZOFFSETFROM:+0100
TZOFFSETTO:+0000
TZNAME:GMT
DTSTART:20271031T010000
END:STANDARD
END:VTIMEZONE
BEGIN:VTIMEZONE
TZID:UTC
BEGIN:STANDARD
TZOFFSETFROM:+0000
TZOFFSETTO:+0000
TZNAME:UTC
DTSTART:20230101T000000
END:STANDARD
END:VTIMEZONE
BEGIN:VEVENT
DTSTART;TZID=Europe/London:20260110T110000
DTEND;TZID=Europe/London:20260110T130000
DTSTAMP:20260423T203956
CREATED:20260105T161819Z
LAST-MODIFIED:20260105T161821Z
UID:937-1768042800-1768050000@washwombles.co.uk
SUMMARY:Wapping - January 2026
DESCRIPTION:Our monthly litter pick in Wapping – we meet on Wapping Lane opposite the Green and the Doctors.
URL:https://washwombles.co.uk/event/wapping-january-2026/
LOCATION:Wapping Lane\, Wapping Lane\, London\, E1W 2RW\, United Kingdom
CATEGORIES:Community litter picking event,Wapping
ATTACH;FMTTYPE=image/jpeg:https://washwombles.co.uk/wp-content/uploads/2024/10/PXL_20241012_112431224-scaled.jpg
END:VEVENT
BEGIN:VEVENT
DTSTART;TZID=Europe/London:20251213T110000
DTEND;TZID=Europe/London:20251213T130000
DTSTAMP:20260423T203956
CREATED:20250915T134836Z
LAST-MODIFIED:20250915T134837Z
UID:917-1765623600-1765630800@washwombles.co.uk
SUMMARY:Wapping December
DESCRIPTION:
URL:https://washwombles.co.uk/event/wapping-december/
LOCATION:Wapping Lane\, Wapping Lane\, London\, E1W 2RW\, United Kingdom
CATEGORIES:Community litter picking event,Wapping
END:VEVENT
BEGIN:VEVENT
DTSTART;TZID=Europe/London:20251108T110000
DTEND;TZID=Europe/London:20251108T130000
DTSTAMP:20260423T203956
CREATED:20250915T134717Z
LAST-MODIFIED:20250915T134718Z
UID:915-1762599600-1762606800@washwombles.co.uk
SUMMARY:Wapping November
DESCRIPTION:
URL:https://washwombles.co.uk/event/wapping-november-2/
LOCATION:Wapping Lane\, Wapping Lane\, London\, E1W 2RW\, United Kingdom
CATEGORIES:Community litter picking event,Wapping
END:VEVENT
BEGIN:VEVENT
DTSTART;TZID=Europe/London:20251011T110000
DTEND;TZID=Europe/London:20251011T130000
DTSTAMP:20260423T203956
CREATED:20250915T134631Z
LAST-MODIFIED:20250915T134632Z
UID:913-1760180400-1760187600@washwombles.co.uk
SUMMARY:Wapping October
DESCRIPTION:
URL:https://washwombles.co.uk/event/wapping-october-2/
LOCATION:Wapping Lane\, Wapping Lane\, London\, E1W 2RW\, United Kingdom
CATEGORIES:Community litter picking event,Wapping
END:VEVENT
BEGIN:VEVENT
DTSTART;TZID=Europe/London:20250712T110000
DTEND;TZID=Europe/London:20250712T130000
DTSTAMP:20260423T203956
CREATED:20250501T134114Z
LAST-MODIFIED:20250501T134115Z
UID:837-1752318000-1752325200@washwombles.co.uk
SUMMARY:Wapping July
DESCRIPTION:
URL:https://washwombles.co.uk/event/wapping-july/
LOCATION:Wapping Lane\, Wapping Lane\, London\, E1W 2RW\, United Kingdom
CATEGORIES:Community litter picking event,Wapping
END:VEVENT
BEGIN:VEVENT
DTSTART;TZID=Europe/London:20250614T110000
DTEND;TZID=Europe/London:20250614T130000
DTSTAMP:20260423T203956
CREATED:20250501T133912Z
LAST-MODIFIED:20250501T133945Z
UID:834-1749898800-1749906000@washwombles.co.uk
SUMMARY:Wapping - June
DESCRIPTION:
URL:https://washwombles.co.uk/event/wapping-june/
CATEGORIES:Community litter picking event,Wapping
END:VEVENT
BEGIN:VEVENT
DTSTART;TZID=Europe/London:20250510T110000
DTEND;TZID=Europe/London:20250510T130000
DTSTAMP:20260423T203956
CREATED:20250501T133806Z
LAST-MODIFIED:20250501T133807Z
UID:832-1746874800-1746882000@washwombles.co.uk
SUMMARY:Wapping - May
DESCRIPTION:
URL:https://washwombles.co.uk/event/wapping-may/
LOCATION:Wapping Lane\, Wapping Lane\, London\, E1W 2RW\, United Kingdom
CATEGORIES:Community litter picking event,Wapping
END:VEVENT
BEGIN:VEVENT
DTSTART;TZID=Europe/London:20250505T120000
DTEND;TZID=Europe/London:20250505T160000
DTSTAMP:20260423T203956
CREATED:20250501T133637Z
LAST-MODIFIED:20250501T133638Z
UID:829-1746446400-1746460800@washwombles.co.uk
SUMMARY:Wapping VE Day
DESCRIPTION:We’ll be hanging out meeting neighbours – you are welcome to do some litter picking during the day or to help tidy up afterwards.
URL:https://washwombles.co.uk/event/wapping-ve-day/
LOCATION:Wapping Lane\, Wapping Lane\, London\, E1W 2RW\, United Kingdom
CATEGORIES:Community litter picking event,Wapping
ATTACH;FMTTYPE=image/jpeg:https://washwombles.co.uk/wp-content/uploads/2025/05/WhatsApp-Image-2025-04-30-at-21.34.37.jpeg
END:VEVENT
BEGIN:VEVENT
DTSTART;TZID=Europe/London:20241109T110000
DTEND;TZID=Europe/London:20241109T130000
DTSTAMP:20260423T203956
CREATED:20241015T090447Z
LAST-MODIFIED:20241015T090804Z
UID:744-1731150000-1731157200@washwombles.co.uk
SUMMARY:Wapping - November
DESCRIPTION:Our monthly litter pick – drop in and out as you like. Hot drinks and biscuits available and a voucher for a free drink at Urban Baristas!
URL:https://washwombles.co.uk/event/wapping-november/
LOCATION:Wapping Lane\, Wapping Lane\, London\, E1W 2RW\, United Kingdom
CATEGORIES:Community litter picking event,Wapping
ATTACH;FMTTYPE=image/jpeg:https://washwombles.co.uk/wp-content/uploads/2024/10/PXL_20241012_120652792-scaled.jpg
END:VEVENT
BEGIN:VEVENT
DTSTART;TZID=UTC:20241012T110000
DTEND;TZID=UTC:20241012T130000
DTSTAMP:20260423T203956
CREATED:20240928T153611Z
LAST-MODIFIED:20241003T125751Z
UID:466-1728730800-1728738000@washwombles.co.uk
SUMMARY:Wapping October
DESCRIPTION:Find us on Wapping Lane opposite Wapping Green. We’re in hi-vis\, you can’t miss us!
URL:https://washwombles.co.uk/event/wapping-october/
LOCATION:Wapping Lane\, Wapping Lane\, London\, E1W 2RW\, United Kingdom
CATEGORIES:Community litter picking event,Wapping
END:VEVENT
END:VCALENDAR