BEGIN:VCALENDAR
VERSION:2.0
PRODID:-//Wash Wombles - ECPv6.15.13//NONSGML v1.0//EN
CALSCALE:GREGORIAN
METHOD:PUBLISH
X-ORIGINAL-URL:https://washwombles.co.uk
X-WR-CALDESC:Events for Wash Wombles
REFRESH-INTERVAL;VALUE=DURATION:PT1H
X-Robots-Tag:noindex
X-PUBLISHED-TTL:PT1H
BEGIN:VTIMEZONE
TZID:Europe/London
BEGIN:DAYLIGHT
TZOFFSETFROM:+0000
TZOFFSETTO:+0100
TZNAME:BST
DTSTART:20240331T010000
END:DAYLIGHT
BEGIN:STANDARD
TZOFFSETFROM:+0100
TZOFFSETTO:+0000
TZNAME:GMT
DTSTART:20241027T010000
END:STANDARD
BEGIN:DAYLIGHT
TZOFFSETFROM:+0000
TZOFFSETTO:+0100
TZNAME:BST
DTSTART:20250330T010000
END:DAYLIGHT
BEGIN:STANDARD
TZOFFSETFROM:+0100
TZOFFSETTO:+0000
TZNAME:GMT
DTSTART:20251026T010000
END:STANDARD
BEGIN:DAYLIGHT
TZOFFSETFROM:+0000
TZOFFSETTO:+0100
TZNAME:BST
DTSTART:20260329T010000
END:DAYLIGHT
BEGIN:STANDARD
TZOFFSETFROM:+0100
TZOFFSETTO:+0000
TZNAME:GMT
DTSTART:20261025T010000
END:STANDARD
END:VTIMEZONE
BEGIN:VEVENT
DTSTART;TZID=Europe/London:20250503T110000
DTEND;TZID=Europe/London:20250503T130000
DTSTAMP:20260426T024409
CREATED:20250501T125034Z
LAST-MODIFIED:20250501T125631Z
UID:813-1746270000-1746277200@washwombles.co.uk
SUMMARY:Stepney May Day Litter Pick
DESCRIPTION:We’ll be by the goats!
URL:https://washwombles.co.uk/event/stepney-may-day-litter-pick/
LOCATION:Stepney City Farm\, Stepney City Farm\, Stepney Way\, London\, E1 3DG\, United Kingdom
CATEGORIES:Community litter picking event,Stepney City Farm
ATTACH;FMTTYPE=image/jpeg:https://washwombles.co.uk/wp-content/uploads/2025/05/WhatsApp-Image-2025-04-30-at-15.23.55.jpeg
END:VEVENT
END:VCALENDAR