BEGIN:VCALENDAR
VERSION:2.0
PRODID:-//Wash Wombles - ECPv6.15.13//NONSGML v1.0//EN
CALSCALE:GREGORIAN
METHOD:PUBLISH
X-WR-CALNAME:Wash Wombles
X-ORIGINAL-URL:https://washwombles.co.uk
X-WR-CALDESC:Events for Wash Wombles
REFRESH-INTERVAL;VALUE=DURATION:PT1H
X-Robots-Tag:noindex
X-PUBLISHED-TTL:PT1H
BEGIN:VTIMEZONE
TZID:Europe/London
BEGIN:DAYLIGHT
TZOFFSETFROM:+0000
TZOFFSETTO:+0100
TZNAME:BST
DTSTART:20240331T010000
END:DAYLIGHT
BEGIN:STANDARD
TZOFFSETFROM:+0100
TZOFFSETTO:+0000
TZNAME:GMT
DTSTART:20241027T010000
END:STANDARD
BEGIN:DAYLIGHT
TZOFFSETFROM:+0000
TZOFFSETTO:+0100
TZNAME:BST
DTSTART:20250330T010000
END:DAYLIGHT
BEGIN:STANDARD
TZOFFSETFROM:+0100
TZOFFSETTO:+0000
TZNAME:GMT
DTSTART:20251026T010000
END:STANDARD
BEGIN:DAYLIGHT
TZOFFSETFROM:+0000
TZOFFSETTO:+0100
TZNAME:BST
DTSTART:20260329T010000
END:DAYLIGHT
BEGIN:STANDARD
TZOFFSETFROM:+0100
TZOFFSETTO:+0000
TZNAME:GMT
DTSTART:20261025T010000
END:STANDARD
END:VTIMEZONE
BEGIN:VEVENT
DTSTART;TZID=Europe/London:20251004T110000
DTEND;TZID=Europe/London:20251004T130000
DTSTAMP:20260425T165803
CREATED:20250915T135026Z
LAST-MODIFIED:20250915T135027Z
UID:919-1759575600-1759582800@washwombles.co.uk
SUMMARY:Stepney October
DESCRIPTION:
URL:https://washwombles.co.uk/event/stepney-october/
LOCATION:Stepney City Farm\, Stepney City Farm\, Stepney Way\, London\, E1 3DG\, United Kingdom
CATEGORIES:Community litter picking event,Stepney City Farm
END:VEVENT
END:VCALENDAR