BEGIN:VCALENDAR
VERSION:2.0
PRODID:-//Wash Wombles - ECPv6.15.13//NONSGML v1.0//EN
CALSCALE:GREGORIAN
METHOD:PUBLISH
X-ORIGINAL-URL:https://washwombles.co.uk
X-WR-CALDESC:Events for Wash Wombles
REFRESH-INTERVAL;VALUE=DURATION:PT1H
X-Robots-Tag:noindex
X-PUBLISHED-TTL:PT1H
BEGIN:VTIMEZONE
TZID:Europe/London
BEGIN:DAYLIGHT
TZOFFSETFROM:+0000
TZOFFSETTO:+0100
TZNAME:BST
DTSTART:20240331T010000
END:DAYLIGHT
BEGIN:STANDARD
TZOFFSETFROM:+0100
TZOFFSETTO:+0000
TZNAME:GMT
DTSTART:20241027T010000
END:STANDARD
BEGIN:DAYLIGHT
TZOFFSETFROM:+0000
TZOFFSETTO:+0100
TZNAME:BST
DTSTART:20250330T010000
END:DAYLIGHT
BEGIN:STANDARD
TZOFFSETFROM:+0100
TZOFFSETTO:+0000
TZNAME:GMT
DTSTART:20251026T010000
END:STANDARD
BEGIN:DAYLIGHT
TZOFFSETFROM:+0000
TZOFFSETTO:+0100
TZNAME:BST
DTSTART:20260329T010000
END:DAYLIGHT
BEGIN:STANDARD
TZOFFSETFROM:+0100
TZOFFSETTO:+0000
TZNAME:GMT
DTSTART:20261025T010000
END:STANDARD
END:VTIMEZONE
BEGIN:VEVENT
DTSTART;TZID=Europe/London:20251108T110000
DTEND;TZID=Europe/London:20251108T130000
DTSTAMP:20260425T195923
CREATED:20250915T134717Z
LAST-MODIFIED:20250915T134718Z
UID:915-1762599600-1762606800@washwombles.co.uk
SUMMARY:Wapping November
DESCRIPTION:
URL:https://washwombles.co.uk/event/wapping-november-2/
LOCATION:Wapping Lane\, Wapping Lane\, London\, E1W 2RW\, United Kingdom
CATEGORIES:Community litter picking event,Wapping
END:VEVENT
END:VCALENDAR